BEGIN:VCALENDAR
VERSION:2.0
PRODID:-//Green European Foundation - ECPv6.15.18//NONSGML v1.0//EN
CALSCALE:GREGORIAN
METHOD:PUBLISH
X-WR-CALNAME:Green European Foundation
X-ORIGINAL-URL:https://gef.eu
X-WR-CALDESC:Events for Green European Foundation
REFRESH-INTERVAL;VALUE=DURATION:PT1H
X-Robots-Tag:noindex
X-PUBLISHED-TTL:PT1H
BEGIN:VTIMEZONE
TZID:Europe/Brussels
BEGIN:DAYLIGHT
TZOFFSETFROM:+0100
TZOFFSETTO:+0200
TZNAME:CEST
DTSTART:20180325T010000
END:DAYLIGHT
BEGIN:STANDARD
TZOFFSETFROM:+0200
TZOFFSETTO:+0100
TZNAME:CET
DTSTART:20181028T010000
END:STANDARD
BEGIN:DAYLIGHT
TZOFFSETFROM:+0100
TZOFFSETTO:+0200
TZNAME:CEST
DTSTART:20190331T010000
END:DAYLIGHT
BEGIN:STANDARD
TZOFFSETFROM:+0200
TZOFFSETTO:+0100
TZNAME:CET
DTSTART:20191027T010000
END:STANDARD
BEGIN:DAYLIGHT
TZOFFSETFROM:+0100
TZOFFSETTO:+0200
TZNAME:CEST
DTSTART:20200329T010000
END:DAYLIGHT
BEGIN:STANDARD
TZOFFSETFROM:+0200
TZOFFSETTO:+0100
TZNAME:CET
DTSTART:20201025T010000
END:STANDARD
END:VTIMEZONE
BEGIN:VEVENT
DTSTART;TZID=Europe/Brussels:20190125T170000
DTEND;TZID=Europe/Brussels:20190125T210000
DTSTAMP:20260420T115259
CREATED:20181127T140638Z
LAST-MODIFIED:20190118T135318Z
UID:10001643-1548435600-1548450000@gef.eu
SUMMARY:Citizen's Energy: Making Energy Democracy Happen (Brussels)
DESCRIPTION:Context \nThis conference is part of the Green European Foundation Energy Democracy transnational project\, which aims to explore the potential of an energy transition for Europe and how to shape this process in a democratic\, participatory way.  \nEurope has to change its energy system into a fully renewable one to transition to a sustainable economy and to establish a real climate policy. This is a major challenge for every Member State of the European Union\, but will only succeed if the states work together.  \nEuropean citizens are already playing an active role\, together with governments at different levels\, as they are organising themselves in national energy cooperatives and also the European Federation REScoop.  \nStudies show that by 2050\, around 45% of all EU households could be producing their own renewable energy\, more than a third could come through renewable energy cooperatives. This constitutes a huge opportunity for regional economic development\, as locally-owned renewable energy projects deliver eight times the value of projects that are owned by private companies not from the area. However\, the reality in the different Member States is extremely diverse. While the contribution of citizens’ Energy co-ops and local communities is well recognized in Western Europe\, the situation in Eastern Europe is quite the opposite.  \nSee also the publication that was produced for this project: Community Energy in UK.  \nAbout the event \nOur energy system is outdated in many ways: fossil fuel based and thus unsustainable\, technocratic\, and dominated by a few big market players. But over the last few decades\, citizens have been developing an alternative system that is renewable\, decentralised and democratic. \nThe development of renewable energy cooperatives demonstrates what citizens are capable of\, especially when they are supported by a partner state\, one that develops a stimulating legal framework and offers smart incentives. \nHow can we strengthen this transition to an energy system of the future? This conference will bring together contributors from GEF partners\, energy cooperatives and energy sectors to discuss renewable energy potential on both a European and local level.   \nSpeakers \n\nDirk Holemans\, coordinator Oikos Think Tank\nDirk Vansintjan\, President REScoop.eu\nElise Steyaert\, from local climate cooperation Klimaan and VEB (Vlaams Energie Bedrijf)  \nClaire Roumet\, Director Energy Cities \nJohan Daenen\, Member of Flemish Parliament \nBob d’Haeseller\, Green Party in Eeklo (BE)\nAnne Chapman\, Director Green House Think Tank (UK)\nAurélie Maréchal\, Director Green European Foundation\n\nProgramme\n17:00 – Welcome by Aurélie Maréchal\, Director of Green European Foundation\n17:10 – Stage setting by Dirk Holemans\, coordinator at Oikos think tank\n17:30 – Local and citizen iniatatives with Elise Steyaert (Klimaan)\, Dirk Vansintjan (REScoop)\, Bob d’Haeseleer (Groen Eeklo)\n18:30 – Q&A\n19:00 – Coffee break and snacks\n19:30 – Role of governments with Claire Roumet (Energy Cities)\, Johan Daenen (Member of Flemish Parliament)\, Anne Chapman (Green House Think Tank)\n20:30 – Q&A \nTickets for the event can be purchased from the Oikos website here. 
URL:https://gef.eu/event/citizens-energy-making-energy-democracy-happen/
LOCATION:IHECS\, Brussels School for Journalism and Communication\, Rue du Poinçon 15\, Brussels\, 1000\, Belgium
CATEGORIES:Conference
ATTACH;FMTTYPE=image/jpeg:https://gef.eu/wp-content/uploads/2018/11/solar-system-2939560_1280-1.jpg
GEO:50.8435315;4.3486057
X-APPLE-STRUCTURED-LOCATION;VALUE=URI;X-ADDRESS=IHECS Brussels School for Journalism and Communication Rue du Poinçon 15 Brussels 1000 Belgium;X-APPLE-RADIUS=500;X-TITLE=Rue du Poinçon 15:geo:4.3486057,50.8435315
END:VEVENT
END:VCALENDAR