BEGIN:VCALENDAR
VERSION:2.0
PRODID:-//Green European Foundation - ECPv6.15.20//NONSGML v1.0//EN
CALSCALE:GREGORIAN
METHOD:PUBLISH
X-WR-CALNAME:Green European Foundation
X-ORIGINAL-URL:https://gef.eu
X-WR-CALDESC:Events for Green European Foundation
REFRESH-INTERVAL;VALUE=DURATION:PT1H
X-Robots-Tag:noindex
X-PUBLISHED-TTL:PT1H
BEGIN:VTIMEZONE
TZID:Europe/Brussels
BEGIN:DAYLIGHT
TZOFFSETFROM:+0100
TZOFFSETTO:+0200
TZNAME:CEST
DTSTART:20170326T010000
END:DAYLIGHT
BEGIN:STANDARD
TZOFFSETFROM:+0200
TZOFFSETTO:+0100
TZNAME:CET
DTSTART:20171029T010000
END:STANDARD
BEGIN:DAYLIGHT
TZOFFSETFROM:+0100
TZOFFSETTO:+0200
TZNAME:CEST
DTSTART:20180325T010000
END:DAYLIGHT
BEGIN:STANDARD
TZOFFSETFROM:+0200
TZOFFSETTO:+0100
TZNAME:CET
DTSTART:20181028T010000
END:STANDARD
BEGIN:DAYLIGHT
TZOFFSETFROM:+0100
TZOFFSETTO:+0200
TZNAME:CEST
DTSTART:20190331T010000
END:DAYLIGHT
BEGIN:STANDARD
TZOFFSETFROM:+0200
TZOFFSETTO:+0100
TZNAME:CET
DTSTART:20191027T010000
END:STANDARD
END:VTIMEZONE
BEGIN:VEVENT
DTSTART;VALUE=DATE:20180801
DTEND;VALUE=DATE:20180803
DTSTAMP:20260426T013328
CREATED:20180703T072923Z
LAST-MODIFIED:20180726T071202Z
UID:10001616-1533092400-1533178799@gef.eu
SUMMARY:European Green Alternatives (Assos-Canakkale)
DESCRIPTION:Context\nIn a time of ever-growing challenges fundamental principles of Human Rights and human dignity\, this projects aims to highlight the transformative power of social movement\, and how green alternatives in politics as well as in everyone’s daily lives can be realised. \nAbout the event\nFor almost a decade\, the Green Thought Association is organising a Yeşil Kamp in Turkey to bring together European and Turkish Greens to exchange ideas and discuss the most pressing issues such as women’s rights\, food and agricultural systems and rights of nature\, law\, social contracts and ecological struggles\, and so forth. \nThis year\, the Green Camp will be kicked off with a special GEF Summer School on European Green Alternatives aiming to promote green values such as sustainability\, feminism\, direct democracy etc. in Turkey. \nThe Summer School of GEF will be followed up from 2 to 5 August with more thematic and interactive workshops and presentations to deepen the participants’ understanding and knowledge on those topics. \nProgramme\n10:00- 11:15 The Rights of Nature and the Environmental Constitutionalism \nModerator and Introduction: Ümit Şahin (Istanbul Policy Center Climate Change Senior Specialist\, Green Thought Association) \n\nRana Göksu (Lawyer\, Green Thought Association)\nGeorgi Velev (SavePirin Campaign\, Zelenite – Green Party of Bulgaria)\n\n11:45-13:45 Gender Policies and Queer Ecology   \n\nModerator and Introduction: Sevil Turan (Green Thought Association)\nVesna Jusup (European Green Party/EGP)\nBeatrice White (Green European Foundation /GEF)\nTeo Comet Kortman (Federation of Young European Greens/FYEG)\n\n15:15-16:30 Food Policies \n\nModerator and Introduction: Bengi Akbulut (Ecology Collective)\nAntoine Tifine (Federation of Young European Greens/FYEG)\nLeyla Aslan Ünlübay (Buğday Association)\nAyşenur Arslanoğlu (Slowfood Movement)\n\n18.00-19.30 Parallel Workshops \nWorkshop 1: Fight against water crisis- Akgün İlhan \nWorkshop 2: Gender Equality and Queer Ecology –Cihan Koral Malak \nWorkshop 3: Fair Food and Food Policies–Durukan Dudu \n\nFor further questions\, directly get in touch with cihat.demirtas@yesildusunce.org 
URL:https://gef.eu/event/european-green-alternatives/
LOCATION:Son Gemy Camping\, Son Gemi Camping\, Assos\, Çanakkale. Harita\, Turkey
CATEGORIES:Summer university
ATTACH;FMTTYPE=image/jpeg:https://gef.eu/wp-content/uploads/2018/07/campfire-984020_1920.jpg
GEO:39.492572;26.334422
X-APPLE-STRUCTURED-LOCATION;VALUE=URI;X-ADDRESS=Son Gemy Camping Son Gemi Camping Assos Çanakkale. Harita Turkey;X-APPLE-RADIUS=500;X-TITLE=Son Gemi Camping\, Assos\, Çanakkale. Harita:geo:26.334422,39.492572
END:VEVENT
END:VCALENDAR