BEGIN:VCALENDAR
VERSION:2.0
PRODID:-//Green European Foundation - ECPv6.15.20//NONSGML v1.0//EN
CALSCALE:GREGORIAN
METHOD:PUBLISH
X-WR-CALNAME:Green European Foundation
X-ORIGINAL-URL:https://gef.eu
X-WR-CALDESC:Events for Green European Foundation
REFRESH-INTERVAL;VALUE=DURATION:PT1H
X-Robots-Tag:noindex
X-PUBLISHED-TTL:PT1H
BEGIN:VTIMEZONE
TZID:Europe/Brussels
BEGIN:DAYLIGHT
TZOFFSETFROM:+0100
TZOFFSETTO:+0200
TZNAME:CEST
DTSTART:20210328T010000
END:DAYLIGHT
BEGIN:STANDARD
TZOFFSETFROM:+0200
TZOFFSETTO:+0100
TZNAME:CET
DTSTART:20211031T010000
END:STANDARD
BEGIN:DAYLIGHT
TZOFFSETFROM:+0100
TZOFFSETTO:+0200
TZNAME:CEST
DTSTART:20220327T010000
END:DAYLIGHT
BEGIN:STANDARD
TZOFFSETFROM:+0200
TZOFFSETTO:+0100
TZNAME:CET
DTSTART:20221030T010000
END:STANDARD
BEGIN:DAYLIGHT
TZOFFSETFROM:+0100
TZOFFSETTO:+0200
TZNAME:CEST
DTSTART:20230326T010000
END:DAYLIGHT
BEGIN:STANDARD
TZOFFSETFROM:+0200
TZOFFSETTO:+0100
TZNAME:CET
DTSTART:20231029T010000
END:STANDARD
END:VTIMEZONE
BEGIN:VEVENT
DTSTART;TZID=Europe/Brussels:20221008T093000
DTEND;TZID=Europe/Brussels:20221008T140000
DTSTAMP:20260425T171352
CREATED:20220922T153826Z
LAST-MODIFIED:20221004T124137Z
UID:41093-1665221400-1665237600@gef.eu
SUMMARY:Tourism in Times of Climate and Social Crisis (Barcelona)
DESCRIPTION:About the event\nFrom the COVID-19 pandemic to the war in Ukraine\, inflation to the energy crisis – the tourism sector has been dealt many blows in the past few years. At the same time\, mass tourism is itself implicated in several of our biggest challenges today: carbon emissions\, housing shortages\, crumbling infrastructure\, poor working conditions\, and the list goes on. As we look to transforming our economies and societies\, the green and just transition of tourism is a crucial element.     \nIn this half-day conference\, we will tackle the question of tourism around three dimensions: mobility and infrastructure\, labour and public services\, and climate and environment. With experts\, academics\, trade unionists and politicians\, we look forward to lively and thought-provoking exchanges.    \n\n  \nContext\nThis event is part of GEF’s Fair and Carbon Free Tourism project\, which aims to identify and create conditions for collective action against detrimental social and environmental impacts of tourism. By engaging stakeholders in partner countries and developing a European transnational discussion on these challenges\, we seek to build a community interested to transform this sector in the direction of low or zero carbon intensity and with a specific focus on social and economic justice.  \n\n  \nSpeakers\nAurora Pedro Bueno – Director of the New Green Transition in Tourism department\, University of Valencia  \nDeborah Pérez – trade unionist at MagmaCultura  \nJavier Pacheco – General Secretary of CCOO Catalunya  \nJosé Antonio Donaire – Tourism research institute of the University of Girona  \nPau Noy – President of the Foundation for Sustainable and Safe Mobility  \nSergi Alegre – Fundacio Nous Horitzons  \nTilly Metz – Greens/EFA MEP and member of the Committee on Transport and Tourism [tbc]   \nVictor Català – former Blanes City councillor   \n\n  \nProgramme\n10:00 Welcome and Introduction – with Javier Pacheco and Sergi Alegre  \n10:30 Tourism\, Mobility\, and Territorial Balance – with José Antonio Donaire and Pau Noy  \n11:30 Break  \n12:00 Tourism\, Public Services\, and Working Conditions – with Deborah Pérez and Victor Català  \n13:00 Tourism in a Climate Crisis Context – with Aurora Pedro Bueno and Tilly Metz  \n  \nPracticalities\nDate and time: Saturday\, October 8th (9:30 – 14:00 CEST)  \nLocation: CCOO de Catalunya Assembly Space – Via Laietana 16\, Barcelona   \nLanguage: Catalan  \nRegistration: Pre-registration is not required\, but please arrive on time.   \n  \nRelated reading\nThe Case for Not Flying \n \nAnthropogenic Venice: Surviving Life in a Lagoon \n \nSteering Tourism to a Greener Course in Belgrade \n \nSeeing Mobility in a New Light \n \n  \n  \n\nThis event is organised by the Green European Foundation with the support of Fundacio Nous Horitzons and the financial support of the European parliament to the Green European Foundation. 
URL:https://gef.eu/event/tourism-in-times-of-crisis/
CATEGORIES:Conference
ATTACH;FMTTYPE=image/jpeg:https://gef.eu/wp-content/uploads/2022/09/Picture1_edited.jpg
END:VEVENT
END:VCALENDAR